BEGIN:VCALENDAR
VERSION:2.0
PRODID:-//eventon.com NONSGML v1.0//EN
BEGIN:VEVENT
UID:69ed32b4a62ee
DTSTAMP:20260425T233132
DTSTART:20250618T080000Z
DTEND:20250618T091500Z
TZID:Europe/Madrid
LOCATION:
SUMMARY:European partnership opportunities | Made in Europe (EFFRA)
DESCRIPTION: El miércoles 18 de junio ADItech – a través de la iniciativa Horizonte Redes – organizó en colaboración con la asociación europea EFFRA (European Factories of the Future Research Association) un seminario online sobre las oportunidades de la convocatoria 2025 del partenariado Made in Europe. Este seminario se dirigió a[..]\nhttps://www.aditech.com/es/evento/european-partnership-opportunities-made-in-europe-effra/
URL:https://www.aditech.com/es/evento/european-partnership-opportunities-made-in-europe-effra/
END:VEVENT
END:VCALENDAR